BEGIN:VCALENDAR
VERSION:2.0
PRODID:-//Contratero//ES
CALSCALE:GREGORIAN
METHOD:PUBLISH
BEGIN:VEVENT
UID:02.07.01.01 2022/10-SS_REYES@contratero.es
DTSTAMP:20260421T033532Z
DTSTART:20220422T235959
DTEND:20220423T005959
SUMMARY:Cierre: servicios de conexión a internet del Ayuntamiento 
DESCRIPTION:servicios de conexión a internet del Ayuntamiento de San Sebastián de los Reyes\\n\\nOrganismo: Junta de Gobierno del Ayuntamiento de San Sebastián de los Reyes\\n\\nVer en Contratero: https://contratero.es/contracts/02.07.01.01 2022/10-SS_REYES
URL:https://contratero.es/contracts/02.07.01.01 2022/10-SS_REYES
STATUS:CONFIRMED
BEGIN:VALARM
TRIGGER:-P1D
ACTION:DISPLAY
DESCRIPTION:Recordatorio: servicios de conexión a intern
END:VALARM
END:VEVENT
END:VCALENDAR